BEGIN:VCALENDAR
VERSION:2.0
PRODID:-//Paddy Sportegyesület - ECPv6.15.17//NONSGML v1.0//EN
CALSCALE:GREGORIAN
METHOD:PUBLISH
X-WR-CALNAME:Paddy Sportegyesület
X-ORIGINAL-URL:https://paddy.hu
X-WR-CALDESC:Események Paddy Sportegyesület
REFRESH-INTERVAL;VALUE=DURATION:PT1H
X-Robots-Tag:noindex
X-PUBLISHED-TTL:PT1H
BEGIN:VTIMEZONE
TZID:UTC
BEGIN:STANDARD
TZOFFSETFROM:+0000
TZOFFSETTO:+0000
TZNAME:UTC
DTSTART:20220101T000000
END:STANDARD
END:VTIMEZONE
BEGIN:VEVENT
DTSTART;VALUE=DATE:20240824
DTEND;VALUE=DATE:20240825
DTSTAMP:20260420T025339
CREATED:20200504T161610Z
LAST-MODIFIED:20250725T214757Z
UID:1743-1724457600-1724543999@paddy.hu
SUMMARY:VII. Feke-Tech Éjszakai Futás\, Sopron
DESCRIPTION:A napnyugtakor startolt versenyen a Paddy Sportegyesület szervezésében 21\,2 km\, 10\,6 km illetve 5\,3 km távon futottak a sportolók\, a start/cél a Deák téri Vinodomnál volt. A nagy meleg ellenére sokan vállalták\, hogy egyéniben vagy váltóban teljesítik a lámpafényes kihívást. \n\nDunaveczky András elnök elmondta: nagy öröm\, hogy a COVID miatti kihagyás után ismét emelkedik a nevezők száma\, és a jövőben talán ismét 400 fő fölötti résztvevővel rendezik meg a programot\, amit Sopron Önkormányzata is támogat. A hőségriadóra tekintettel rengeteg frissítőponttal\, párakapuval és felkészült segítőkkel\, egészségügyi személyzettel\, rendőri\, polgárőri felügyelettel vigyáztak a sportolók biztonságára. A cél az\, hogy tovább színesítsék a város sportéletét. A versenyen részt vett Abdai Zsolt önkormányzati képviselő is\, aki rendszeresen indul ilyen közösségi futó megmérettetéseken. \nForrás: sopronmédia.hu
URL:https://paddy.hu/event/extreme-blitz-marathon-gala/
LOCATION:Sopron\, Hungary\, Sopron\, Győr-Moson-Sopron\, 9400\, Hungary
CATEGORIES:Éjszakai futások
ATTACH;FMTTYPE=image/jpeg:https://paddy.hu/wp-content/uploads/2020/05/489677351_1095297125972312_5594499198059861196_n.jpg
ORGANIZER;CN="Paddy Sportegyes%C3%BClet":MAILTO:kapcsolat@paddy.hu
END:VEVENT
BEGIN:VEVENT
DTSTART;VALUE=DATE:20250316
DTEND;VALUE=DATE:20250317
DTSTAMP:20260420T025339
CREATED:20200504T160631Z
LAST-MODIFIED:20250725T220300Z
UID:1739-1742083200-1742169599@paddy.hu
SUMMARY:VIII. Szent Patrik-napi futás\, Sopron
DESCRIPTION:VIII. Szent Patrik-napi futás a jótékonyság jegyében\nNyolcadik alkalommal szervezte meg a Paddy Sportegyesület Szent Patrik-napi jótékonyági futóversenyét. A borús idő ellenére 170-en vettek részt a rendezvényen. A nevezési díjakból befolyt összegből a Sopron és Környéke Újszülöttjeiért Egészségügyi Alapítványt támogatják a szervezők. \n\nFiatalok és idősek is szép számban vettek részt az idei Szent Patrik-napi jótékonyági futáson. A hideg időjárás ellenére idén is sokan teljesítették a 4\,5 kilométeres távot a belvárosban. A mezőny a Deák-térről indult\, majd a Várkerület\, a Tűztorony\, az Orsolya tér és a Liszt-központ érintésével érkeztek vissza a Vinodom épületéhez. \nÍrországban jártunk 2015-ben egy Szent Patrik-napi mulatságon\, ahol egy 5 kilométeres futást is rendeztek. A versenyen teljesen új szemszögből nézhettük meg a várost\, olyan helyeket láthattunk\, amit egy turista talán észre sem vesz. Ez nagyon megtetszett nekünk\, így Sopronban is életre hívtuk a Szent Patrik-napi futást. A rendezvény minden évben jótékony célt szolgál\, idén a nevezésekből befolyt 345 ezer forintból a Sopron és Környéke Újszülöttjeiért Egészségügyi Alapítványt támogatjuk\n– mondta el Dunaveczky András\, a Paddy Sportegyesület elnöke. \n  \nKiemelt célunk\, hogy a fiataloktól az idősekig minden korosztály figyelmét felhívjuk a sportolás és az egészséges életmód fontosságára. Az önkormányzat örömmel támogat minden olyan kezdeményezést\, amely a mozgást népszerűsíti a lakosság körében\n– mondta el kérdésünkre dr. Csiszár Szabolcs. \nA résztvevőket a célban befutóéremmel és forró teával várták a szervezők. \n\n  \n\nForrás: https://www.sopronmedia.hu/cikkek/viii-szent-patrik-napi-futas-a-jotekonysag-jegyeben
URL:https://paddy.hu/event/viii-szent-patrik-napi-futas/
LOCATION:Sopron\, Hungary\, Sopron\, Győr-Moson-Sopron\, 9400\, Hungary
CATEGORIES:Szent Patrik-napi futások
ATTACH;FMTTYPE=image/jpeg:https://paddy.hu/wp-content/uploads/2020/05/492000095_1104555775046447_4268365887842484073_n.jpg
ORGANIZER;CN="Paddy Sportegyes%C3%BClet":MAILTO:kapcsolat@paddy.hu
END:VEVENT
BEGIN:VEVENT
DTSTART;VALUE=DATE:20240317
DTEND;VALUE=DATE:20240318
DTSTAMP:20260420T025339
CREATED:20200504T160421Z
LAST-MODIFIED:20250725T221643Z
UID:1737-1710633600-1710719999@paddy.hu
SUMMARY:VII. Szent Patrik-napi jótékonysági futás\, Sopron
DESCRIPTION:Hetedik alkalommal futottak a jó ügyért!\n2024. március 17-én Patrik napján rendezték meg a VII. Szent Patrik-napi Jótékonysági futást. A rendezvényen Magas Ádám\, valamint Abdai Zsolt képviselők is részt vettek \n\nDunaveczky András\, a Paddy Sportegyesület elnöke elmondta: \n240-en neveztek elő a jótékonysági futásra\, de a helyszínen is rengetegen jelentkeztek. Bízunk abban\, hogy közel 300 fős tömeg fog ma is futni\, de azt már most látjuk\, hogy a gyermek futásnál többen jelentkeztek mint a tavalyi évben.\nFotó: Rombai Péter\nA szervezők célja idén is az\, hogy a soproni közösségeket összefogja a futó közösségekkel. Minden évben más-más szervezetet támogat a Paddy Sportegyesület. A mostani bevételt\, a több mint 630 ezer forintos adományt a Soproni Állat- és Természetvédők Egyesületnek ajánlották fel. \nBagócsi Szabina a Soproni Állat- és Természetvédők Egyesület alelnöke megosztotta velünk: „Ez a jótékonysági futás azért nagyon fontos\, mert ezzel több emberrel meg tudjuk ismertetni az állatvédelmet\, valamint felhívni a figyelmet arra is\, hogy mint élőlények ugyanúgy teljes értékűek ezek az állatok.” \n\nForrás: sopronmedia.hu
URL:https://paddy.hu/event/half-marathon/
LOCATION:Sopron\, Hungary\, Sopron\, Győr-Moson-Sopron\, 9400\, Hungary
CATEGORIES:Szent Patrik-napi futások
ATTACH;FMTTYPE=image/jpeg:https://paddy.hu/wp-content/uploads/2020/05/488212933_1091113569724001_6710738678044452_n.jpg
ORGANIZER;CN="Paddy Sportegyes%C3%BClet":MAILTO:kapcsolat@paddy.hu
END:VEVENT
BEGIN:VEVENT
DTSTART;VALUE=DATE:20231209
DTEND;VALUE=DATE:20231210
DTSTAMP:20260420T025339
CREATED:20200428T120044Z
LAST-MODIFIED:20250725T222504Z
UID:1213-1702080000-1702166399@paddy.hu
SUMMARY:I. FÉSZ floorball kupa
DESCRIPTION:Hagyományteremtő céllal igyekszünk az amatőr floorball csapatoknak versenyzési lehetőséget biztosítani Sopronban.\nA helyszínt a Szent Orsolya Római Katolikus Gimnázium\, Általános Iskola és Óvoda-Bölcsőde biztosítja.\nA kupa a Paddy Sportegyesület szervezésében és a FÉSZ Zrt. támogatásával valósul meg.
URL:https://paddy.hu/event/i-floorball-kupa-fesz/
LOCATION:Sopron\, Hungary\, Sopron\, Győr-Moson-Sopron\, 9400\, Hungary
CATEGORIES:Floorball
ATTACH;FMTTYPE=image/jpeg:https://paddy.hu/wp-content/uploads/2020/04/486768453_1087017213466970_5525776209580377196_n.jpg
ORGANIZER;CN="Paddy Sportegyes%C3%BClet":MAILTO:kapcsolat@paddy.hu
END:VEVENT
BEGIN:VEVENT
DTSTART;VALUE=DATE:20250412
DTEND;VALUE=DATE:20250413
DTSTAMP:20260420T025339
CREATED:20200428T115723Z
LAST-MODIFIED:20250725T222649Z
UID:1210-1744416000-1744502399@paddy.hu
SUMMARY:IV. 4. FÉSZ floorball kupa
DESCRIPTION:Sikeresen lezárult a 4. FÉSZ floorball kupa\n8 csapat részvételével\, közel 40 játékos áldozta szombatját egy jó hangulatért.\nPaddy Sportegyesület egyik csapata már 4. Alkalalommal hódította el az első helyet.\n\n\n1. Paddy CF\n2. Orsolya (diákok)\n3. Ászok\n4. Paddy Roki\n5. Selmeci Szellemek\n6. Napsugár Gang 1960\n7. Final 4\n8. Jégtörők\n\n\nKülön kiemelném Napsugár csapatatából Botit aki 16 találatig jutott ezzel megszerezte a gólkirályi címet\n\n\nKöszönjük a részvételt folyt. köv.
URL:https://paddy.hu/event/vi-fesz-floorball-kupa/
LOCATION:Sopron\, Hungary\, Sopron\, Győr-Moson-Sopron\, 9400\, Hungary
CATEGORIES:Floorball
ATTACH;FMTTYPE=image/jpeg:https://paddy.hu/wp-content/uploads/2020/04/489955580_10228961837770759_8803114383776786204_n.jpg
ORGANIZER;CN="Paddy Sportegyes%C3%BClet":MAILTO:kapcsolat@paddy.hu
END:VEVENT
END:VCALENDAR